BEGIN:VCALENDAR
VERSION:2.0
PRODID:-//Artikla ry - ECPv6.15.20//NONSGML v1.0//EN
CALSCALE:GREGORIAN
METHOD:PUBLISH
X-ORIGINAL-URL:https://artikla.fi
X-WR-CALDESC:Tapahtumat Artikla ry
REFRESH-INTERVAL;VALUE=DURATION:PT1H
X-Robots-Tag:noindex
X-PUBLISHED-TTL:PT1H
BEGIN:VTIMEZONE
TZID:Europe/Helsinki
BEGIN:DAYLIGHT
TZOFFSETFROM:+0200
TZOFFSETTO:+0300
TZNAME:EEST
DTSTART:20250330T010000
END:DAYLIGHT
BEGIN:STANDARD
TZOFFSETFROM:+0300
TZOFFSETTO:+0200
TZNAME:EET
DTSTART:20251026T010000
END:STANDARD
BEGIN:DAYLIGHT
TZOFFSETFROM:+0200
TZOFFSETTO:+0300
TZNAME:EEST
DTSTART:20260329T010000
END:DAYLIGHT
BEGIN:STANDARD
TZOFFSETFROM:+0300
TZOFFSETTO:+0200
TZNAME:EET
DTSTART:20261025T010000
END:STANDARD
BEGIN:DAYLIGHT
TZOFFSETFROM:+0200
TZOFFSETTO:+0300
TZNAME:EEST
DTSTART:20270328T010000
END:DAYLIGHT
BEGIN:STANDARD
TZOFFSETFROM:+0300
TZOFFSETTO:+0200
TZNAME:EET
DTSTART:20271031T010000
END:STANDARD
END:VTIMEZONE
BEGIN:VEVENT
DTSTART;TZID=Europe/Helsinki:20260129T120000
DTEND;TZID=Europe/Helsinki:20260201T170000
DTSTAMP:20260423T182245
CREATED:20250902T155744Z
LAST-MODIFIED:20251212T105409Z
UID:7285-1769688000-1769965200@artikla.fi
SUMMARY:Kaamosluennot
DESCRIPTION:@Levi\, Tarkemmat lisätiedot selviää myöhemmin Artiklan tiedotuksesta!
URL:https://artikla.fi/tapahtuma/kaamosluennot/
END:VEVENT
BEGIN:VEVENT
DTSTART;TZID=Europe/Helsinki:20260202T170000
DTEND;TZID=Europe/Helsinki:20260202T190000
DTSTAMP:20260423T182245
CREATED:20260106T133931Z
LAST-MODIFIED:20260106T133931Z
UID:8008-1770051600-1770058800@artikla.fi
SUMMARY:Esinevakuus- ja insolvenssioikeuden opintopiiri
DESCRIPTION:@Toippari\, Tarkemmat lisätiedot selviää myöhemmin Artiklan tiedotuksesta!
URL:https://artikla.fi/tapahtuma/esinevakuus-ja-insolvenssioikeuden-opintopiiri-4/
END:VEVENT
BEGIN:VEVENT
DTSTART;TZID=Europe/Helsinki:20260204T180000
DTEND;TZID=Europe/Helsinki:20260208T150000
DTSTAMP:20260423T182245
CREATED:20260106T134427Z
LAST-MODIFIED:20260106T134523Z
UID:8010-1770228000-1770562800@artikla.fi
SUMMARY:Aarhus Nordic Week
DESCRIPTION:
URL:https://artikla.fi/tapahtuma/aarhus-nordic-week/
END:VEVENT
BEGIN:VEVENT
DTSTART;TZID=Europe/Helsinki:20260207T180000
DTEND;TZID=Europe/Helsinki:20260207T220000
DTSTAMP:20260423T182245
CREATED:20260116T103518Z
LAST-MODIFIED:20260116T103826Z
UID:8059-1770487200-1770501600@artikla.fi
SUMMARY:Artikla x Lastu x Diverssi sitsit
DESCRIPTION:@Toippari\, Tarkemmat lisätiedot selviää myöhemmin Artiklan tiedotuksesta!
URL:https://artikla.fi/tapahtuma/artikla-x-lastu-x-diverssi-sitsit/
END:VEVENT
BEGIN:VEVENT
DTSTART;TZID=Europe/Helsinki:20260211T180000
DTEND;TZID=Europe/Helsinki:20260211T220000
DTSTAMP:20260423T182245
CREATED:20260126T142625Z
LAST-MODIFIED:20260126T142625Z
UID:8084-1770832800-1770847200@artikla.fi
SUMMARY:P&K-Kerhon pokeriturnaus
DESCRIPTION:@Toippari\, Tarkemmat lisätiedot selviää myöhemmin Artiklan tiedotuksesta!
URL:https://artikla.fi/tapahtuma/pk-kerhon-pokeriturnaus/
END:VEVENT
BEGIN:VEVENT
DTSTART;TZID=Europe/Helsinki:20260212T180000
DTEND;TZID=Europe/Helsinki:20260212T220000
DTSTAMP:20260423T182245
CREATED:20260126T143231Z
LAST-MODIFIED:20260126T143231Z
UID:8086-1770919200-1770933600@artikla.fi
SUMMARY:RoWine Skumppaa punkun kaa
DESCRIPTION:@Toippari\, Tarkemmat lisätiedot selviää myöhemmin!
URL:https://artikla.fi/tapahtuma/rowine-skumppaa-punkun-kaa/
END:VEVENT
BEGIN:VEVENT
DTSTART;TZID=Europe/Helsinki:20260212T180000
DTEND;TZID=Europe/Helsinki:20260216T120000
DTSTAMP:20260423T182245
CREATED:20260112T113716Z
LAST-MODIFIED:20260112T113716Z
UID:8033-1770919200-1771243200@artikla.fi
SUMMARY:Islanti Nordic Week
DESCRIPTION:
URL:https://artikla.fi/tapahtuma/islanti-nordic-week/
END:VEVENT
BEGIN:VEVENT
DTSTART;TZID=Europe/Helsinki:20260213T150000
DTEND;TZID=Europe/Helsinki:20260213T180000
DTSTAMP:20260423T182245
CREATED:20260202T131239Z
LAST-MODIFIED:20260202T131239Z
UID:8102-1770994800-1771005600@artikla.fi
SUMMARY:Artikla x ELSA x ESN Ystävänpäiväluistelu
DESCRIPTION:@Rovaniemi\, Tarkemmat lisätiedot selviää myöhemmin Artiklan tiedotuksesta
URL:https://artikla.fi/tapahtuma/artikla-x-elsa-x-esn-ystavanpaivaluistelu/
END:VEVENT
BEGIN:VEVENT
DTSTART;TZID=Europe/Helsinki:20260214T180000
DTEND;TZID=Europe/Helsinki:20260214T220000
DTSTAMP:20260423T182245
CREATED:20251211T095310Z
LAST-MODIFIED:20260202T131600Z
UID:7890-1771092000-1771106400@artikla.fi
SUMMARY:Artikla x ELSA Ystävänpäiväsitsit
DESCRIPTION:@Toippari\, Tarkemmat lisätiedot selviää myöhemmin Artiklan tiedotuksesta!
URL:https://artikla.fi/tapahtuma/artikla-x-elsa-ystavanpaivasitsit/
END:VEVENT
BEGIN:VEVENT
DTSTART;TZID=Europe/Helsinki:20260214T180000
DTEND;TZID=Europe/Helsinki:20260214T220000
DTSTAMP:20260423T182245
CREATED:20260106T134859Z
LAST-MODIFIED:20260106T134859Z
UID:8012-1771092000-1771106400@artikla.fi
SUMMARY:Artikla goes Akateemisen kyykän MM-kisat
DESCRIPTION:@Tampere
URL:https://artikla.fi/tapahtuma/artikla-goes-akateemisen-kyykan-mm-kisat/
END:VEVENT
BEGIN:VEVENT
DTSTART;TZID=Europe/Helsinki:20260220T150000
DTEND;TZID=Europe/Helsinki:20260222T150000
DTSTAMP:20260423T182245
CREATED:20251211T100142Z
LAST-MODIFIED:20251211T100142Z
UID:7894-1771599600-1771772400@artikla.fi
SUMMARY:Poronkusema
DESCRIPTION:@Rovaniemi\, Tarkemmat tiedot Instagramissa @poronkusemaofficial
URL:https://artikla.fi/tapahtuma/poronkusema/
END:VEVENT
BEGIN:VEVENT
DTSTART;TZID=Europe/Helsinki:20260226T120000
DTEND;TZID=Europe/Helsinki:20260226T220000
DTSTAMP:20260423T182245
CREATED:20260202T131826Z
LAST-MODIFIED:20260202T131826Z
UID:8105-1772107200-1772143200@artikla.fi
SUMMARY:Artikla goes Pikkulaskiainen
DESCRIPTION:@Turku
URL:https://artikla.fi/tapahtuma/artikla-goes-pikkulaskiainen/
END:VEVENT
BEGIN:VEVENT
DTSTART;TZID=Europe/Helsinki:20260228T183000
DTEND;TZID=Europe/Helsinki:20260228T230000
DTSTAMP:20260423T182245
CREATED:20260213T133520Z
LAST-MODIFIED:20260213T133520Z
UID:8136-1772303400-1772319600@artikla.fi
SUMMARY:KKO 2026:1 -sitsit
DESCRIPTION:@Pykälän kerhotilat
URL:https://artikla.fi/tapahtuma/kko-20261-sitsit/
END:VEVENT
BEGIN:VEVENT
DTSTART;TZID=Europe/Helsinki:20260302T170000
DTEND;TZID=Europe/Helsinki:20260302T190000
DTSTAMP:20260423T182245
CREATED:20260218T092346Z
LAST-MODIFIED:20260218T092346Z
UID:8146-1772470800-1772478000@artikla.fi
SUMMARY:Hallinto-oikeuden opintopiiri
DESCRIPTION:@Toippari\, Tarkemmat lisätiedot selviää myöhemmin Artiklan tiedotuksesta!
URL:https://artikla.fi/tapahtuma/hallinto-oikeuden-opintopiiri/
END:VEVENT
BEGIN:VEVENT
DTSTART;TZID=Europe/Helsinki:20260309T170000
DTEND;TZID=Europe/Helsinki:20260309T190000
DTSTAMP:20260423T182245
CREATED:20260218T092508Z
LAST-MODIFIED:20260218T092508Z
UID:8148-1773075600-1773082800@artikla.fi
SUMMARY:Hallinto-oikeuden opintopiiri
DESCRIPTION:@Toippari\, Tarkemmat lisätiedot selviää myöhemmin Artiklan tiedotuksesta!
URL:https://artikla.fi/tapahtuma/hallinto-oikeuden-opintopiiri-2/
END:VEVENT
BEGIN:VEVENT
DTSTART;TZID=Europe/Helsinki:20260312T180000
DTEND;TZID=Europe/Helsinki:20260312T220000
DTSTAMP:20260423T182245
CREATED:20260224T162132Z
LAST-MODIFIED:20260224T162347Z
UID:8169-1773338400-1773352800@artikla.fi
SUMMARY:RoWine Wine & Paint
DESCRIPTION:@Toippari\, Tarkemmat lisätiedot selviää myöhemmin!
URL:https://artikla.fi/tapahtuma/rowine-wine-paint/
END:VEVENT
BEGIN:VEVENT
DTSTART;TZID=Europe/Helsinki:20260314T180000
DTEND;TZID=Europe/Helsinki:20260314T210000
DTSTAMP:20260423T182245
CREATED:20260303T073411Z
LAST-MODIFIED:20260303T073411Z
UID:8202-1773511200-1773522000@artikla.fi
SUMMARY:Teatteri-ilta by Bird & Bird
DESCRIPTION:@Rovaniemen teatteri\, Tarkemmat lisätiedot selviää myöhemmin Artiklan tiedotuksesta!
URL:https://artikla.fi/tapahtuma/teatteri-ilta-by-bird-bird/
END:VEVENT
BEGIN:VEVENT
DTSTART;TZID=Europe/Helsinki:20260316T170000
DTEND;TZID=Europe/Helsinki:20260316T190000
DTSTAMP:20260423T182245
CREATED:20260218T092644Z
LAST-MODIFIED:20260218T092644Z
UID:8150-1773680400-1773687600@artikla.fi
SUMMARY:Hallinto-oikeuden opintopiiri
DESCRIPTION:@Toippari\, Tarkemmat lisätiedot selviää myöhemmin Artiklan tiedotuksesta!
URL:https://artikla.fi/tapahtuma/hallinto-oikeuden-opintopiiri-3/
END:VEVENT
BEGIN:VEVENT
DTSTART;TZID=Europe/Helsinki:20260319T180000
DTEND;TZID=Europe/Helsinki:20260321T120000
DTSTAMP:20260423T182245
CREATED:20251211T100732Z
LAST-MODIFIED:20251211T100732Z
UID:7899-1773943200-1774094400@artikla.fi
SUMMARY:Fuksiristeily
DESCRIPTION:Tarkemmat lisätiedot selviää myöhemmin Artiklan tiedotuksesta!
URL:https://artikla.fi/tapahtuma/fuksiristeily/
END:VEVENT
BEGIN:VEVENT
DTSTART;TZID=Europe/Helsinki:20260323T170000
DTEND;TZID=Europe/Helsinki:20260323T190000
DTSTAMP:20260423T182245
CREATED:20260218T092808Z
LAST-MODIFIED:20260218T092808Z
UID:8152-1774285200-1774292400@artikla.fi
SUMMARY:Hallinto-oikeuden opintopiiri
DESCRIPTION:@Toippari\, Tarkemmat lisätiedot selviää myöhemmin Artiklan tiedotuksesta!
URL:https://artikla.fi/tapahtuma/hallinto-oikeuden-opintopiiri-4/
END:VEVENT
BEGIN:VEVENT
DTSTART;TZID=Europe/Helsinki:20260324T180000
DTEND;TZID=Europe/Helsinki:20260328T120000
DTSTAMP:20260423T182245
CREATED:20260112T113917Z
LAST-MODIFIED:20260112T113917Z
UID:8035-1774375200-1774699200@artikla.fi
SUMMARY:Lex Nordic Week
DESCRIPTION:
URL:https://artikla.fi/tapahtuma/lex-nordic-week/
END:VEVENT
BEGIN:VEVENT
DTSTART;TZID=Europe/Helsinki:20260331T193000
DTEND;TZID=Europe/Helsinki:20260331T210000
DTSTAMP:20260423T182245
CREATED:20260318T124346Z
LAST-MODIFIED:20260318T124346Z
UID:8283-1774985400-1774990800@artikla.fi
SUMMARY:Avanto by Avance
DESCRIPTION:@Heishala\, Tarkemmat lisätiedot selviää myöhemmin Artiklan tiedotuksesta!
URL:https://artikla.fi/tapahtuma/avanto-by-avance/
END:VEVENT
BEGIN:VEVENT
DTSTART;TZID=Europe/Helsinki:20260401T180000
DTEND;TZID=Europe/Helsinki:20260401T220000
DTSTAMP:20260423T182245
CREATED:20260318T123024Z
LAST-MODIFIED:20260318T123024Z
UID:8271-1775066400-1775080800@artikla.fi
SUMMARY:P&K-kerhon juhlaillallinen
DESCRIPTION:@Toippari\, Tarkemmat lisätiedot selviää myöhemmin Artiklan tiedotuksesta!
URL:https://artikla.fi/tapahtuma/pk-kerhon-juhlaillallinen/
END:VEVENT
BEGIN:VEVENT
DTSTART;TZID=Europe/Helsinki:20260402T160000
DTEND;TZID=Europe/Helsinki:20260402T220000
DTSTAMP:20260423T182245
CREATED:20260125T112008Z
LAST-MODIFIED:20260209T204638Z
UID:8075-1775145600-1775167200@artikla.fi
SUMMARY:Fuksisitsit
DESCRIPTION:@Toippari\, Tarkemmat lisätiedot selviää myöhemmin Artiklan tiedotuksesta!
URL:https://artikla.fi/tapahtuma/fuksisitsit/
END:VEVENT
BEGIN:VEVENT
DTSTART;TZID=Europe/Helsinki:20260407T180000
DTEND;TZID=Europe/Helsinki:20260409T120000
DTSTAMP:20260423T182245
CREATED:20260116T110517Z
LAST-MODIFIED:20260116T110517Z
UID:8064-1775584800-1775736000@artikla.fi
SUMMARY:Helsinki excursio
DESCRIPTION:@Helsinki\, Tarkemmat lisätiedot selviää myöhemmin Artiklan tiedotuksesta!
URL:https://artikla.fi/tapahtuma/helsinki-excursio/
END:VEVENT
BEGIN:VEVENT
DTSTART;TZID=Europe/Helsinki:20260408T180000
DTEND;TZID=Europe/Helsinki:20260412T120000
DTSTAMP:20260423T182245
CREATED:20260112T114030Z
LAST-MODIFIED:20260112T114030Z
UID:8037-1775671200-1775995200@artikla.fi
SUMMARY:Pykälä Nordic Week
DESCRIPTION:
URL:https://artikla.fi/tapahtuma/pykala-nordic-week/
END:VEVENT
BEGIN:VEVENT
DTSTART;TZID=Europe/Helsinki:20260409T160000
DTEND;TZID=Europe/Helsinki:20260409T220000
DTSTAMP:20260423T182245
CREATED:20260308T172342Z
LAST-MODIFIED:20260308T172342Z
UID:8237-1775750400-1775772000@artikla.fi
SUMMARY:Artikla goes Öllövelli
DESCRIPTION:@Oulu\, Tarkemmat lisätiedot selviää myöhemmin Artiklan tiedotuksesta!
URL:https://artikla.fi/tapahtuma/artikla-goes-ollovelli/
END:VEVENT
BEGIN:VEVENT
DTSTART;TZID=Europe/Helsinki:20260417T170000
DTEND;TZID=Europe/Helsinki:20260417T220000
DTSTAMP:20260423T182245
CREATED:20260318T123658Z
LAST-MODIFIED:20260318T123658Z
UID:8275-1776445200-1776463200@artikla.fi
SUMMARY:RoWine Grande Finale
DESCRIPTION:@Toippari\, Tarkemmat lisätiedot selviää myöhemmin!
URL:https://artikla.fi/tapahtuma/rowine-grande-finale/
END:VEVENT
BEGIN:VEVENT
DTSTART;TZID=Europe/Helsinki:20260418T180000
DTEND;TZID=Europe/Helsinki:20260418T220000
DTSTAMP:20260423T182245
CREATED:20260318T123840Z
LAST-MODIFIED:20260318T123840Z
UID:8277-1776535200-1776549600@artikla.fi
SUMMARY:Shottivisa
DESCRIPTION:Tarkemmat lisätiedot selviää myöhemmin Artiklan tiedotuksesta!
URL:https://artikla.fi/tapahtuma/shottivisa/
END:VEVENT
BEGIN:VEVENT
DTSTART;TZID=Europe/Helsinki:20260420T170000
DTEND;TZID=Europe/Helsinki:20260420T190000
DTSTAMP:20260423T182245
CREATED:20260421T154720Z
LAST-MODIFIED:20260421T154720Z
UID:8420-1776704400-1776711600@artikla.fi
SUMMARY:Finanssioikeuden opintopiiri by Krogerus
DESCRIPTION:@Toippari\, Tarkemmat lisätiedot selviää myöhemmin Artiklan tiedotuksesta!
URL:https://artikla.fi/tapahtuma/finanssioikeuden-opintopiiri-by-krogerus/
END:VEVENT
END:VCALENDAR