BEGIN:VCALENDAR
VERSION:2.0
PRODID:-//Artikla ry - ECPv6.15.20//NONSGML v1.0//EN
CALSCALE:GREGORIAN
METHOD:PUBLISH
X-WR-CALNAME:Artikla ry
X-ORIGINAL-URL:https://artikla.fi
X-WR-CALDESC:Tapahtumat Artikla ry
REFRESH-INTERVAL;VALUE=DURATION:PT1H
X-Robots-Tag:noindex
X-PUBLISHED-TTL:PT1H
BEGIN:VTIMEZONE
TZID:Europe/Helsinki
BEGIN:DAYLIGHT
TZOFFSETFROM:+0200
TZOFFSETTO:+0300
TZNAME:EEST
DTSTART:20250330T010000
END:DAYLIGHT
BEGIN:STANDARD
TZOFFSETFROM:+0300
TZOFFSETTO:+0200
TZNAME:EET
DTSTART:20251026T010000
END:STANDARD
BEGIN:DAYLIGHT
TZOFFSETFROM:+0200
TZOFFSETTO:+0300
TZNAME:EEST
DTSTART:20260329T010000
END:DAYLIGHT
BEGIN:STANDARD
TZOFFSETFROM:+0300
TZOFFSETTO:+0200
TZNAME:EET
DTSTART:20261025T010000
END:STANDARD
BEGIN:DAYLIGHT
TZOFFSETFROM:+0200
TZOFFSETTO:+0300
TZNAME:EEST
DTSTART:20270328T010000
END:DAYLIGHT
BEGIN:STANDARD
TZOFFSETFROM:+0300
TZOFFSETTO:+0200
TZNAME:EET
DTSTART:20271031T010000
END:STANDARD
END:VTIMEZONE
BEGIN:VEVENT
DTSTART;TZID=Europe/Helsinki:20260121T120000
DTEND;TZID=Europe/Helsinki:20260125T170000
DTSTAMP:20260423T182123
CREATED:20251226T192125Z
LAST-MODIFIED:20251226T192125Z
UID:7932-1768996800-1769360400@artikla.fi
SUMMARY:Bergen Nordic Week
DESCRIPTION:
URL:https://artikla.fi/tapahtuma/bergen-nordic-week/
END:VEVENT
BEGIN:VEVENT
DTSTART;TZID=Europe/Helsinki:20260124T180000
DTEND;TZID=Europe/Helsinki:20260124T220000
DTSTAMP:20260423T182123
CREATED:20251211T094823Z
LAST-MODIFIED:20251211T094823Z
UID:7886-1769277600-1769292000@artikla.fi
SUMMARY:Jurrisitsit
DESCRIPTION:@Toippari\, Tarkemmat lisätiedot selviää myöhemmin Artiklan tiedotuksesta!
URL:https://artikla.fi/tapahtuma/jurrisitsit/
END:VEVENT
BEGIN:VEVENT
DTSTART;TZID=Europe/Helsinki:20260126T170000
DTEND;TZID=Europe/Helsinki:20260126T190000
DTSTAMP:20260423T182123
CREATED:20260106T133808Z
LAST-MODIFIED:20260106T133808Z
UID:8006-1769446800-1769454000@artikla.fi
SUMMARY:Esinevakuus- ja insolvenssioikeuden opintopiiri
DESCRIPTION:@Toippari\, Tarkemmat lisätiedot selviää myöhemmin Artiklan tiedotuksesta!
URL:https://artikla.fi/tapahtuma/esinevakuus-ja-insolvenssioikeuden-opintopiiri-3/
END:VEVENT
BEGIN:VEVENT
DTSTART;TZID=Europe/Helsinki:20260127T190000
DTEND;TZID=Europe/Helsinki:20260127T220000
DTSTAMP:20260423T182123
CREATED:20251211T095058Z
LAST-MODIFIED:20260125T112828Z
UID:7888-1769540400-1769551200@artikla.fi
SUMMARY:Artikla x Aallon sähkö sitsit
DESCRIPTION:@Toippari\, Tarkemmat lisätiedot selviää myöhemmin Artiklan tiedotuksesta!
URL:https://artikla.fi/tapahtuma/artikla-x-aallon-sahko-sitsit/
END:VEVENT
BEGIN:VEVENT
DTSTART;TZID=Europe/Helsinki:20260129T120000
DTEND;TZID=Europe/Helsinki:20260201T170000
DTSTAMP:20260423T182123
CREATED:20250902T155744Z
LAST-MODIFIED:20251212T105409Z
UID:7285-1769688000-1769965200@artikla.fi
SUMMARY:Kaamosluennot
DESCRIPTION:@Levi\, Tarkemmat lisätiedot selviää myöhemmin Artiklan tiedotuksesta!
URL:https://artikla.fi/tapahtuma/kaamosluennot/
END:VEVENT
END:VCALENDAR